BEGIN:VCALENDAR
VERSION:2.0
PRODID:-//eventon.com NONSGML v1.0//EN
BEGIN:VEVENT
UID:69e7a828dfe3d
DTSTAMP:20260421T163904
DTSTART:20261010T083000Z
DTEND:20261011T083000Z
TZID:Europe/Madrid
LOCATION:Salto de Castro Zamora
SUMMARY:En kayak por los Arribes
DESCRIPTION: En kayak por los Arribes El tranquilo discurrir del agua retenida nos va empujando lentamente y nos permite disfrutar de la flora y fauna que colonizan este despoblado territorio. De los colores más vivos de la primavera y el otoño\,  al más suntuoso blanco que puedas imaginar durante el invierno.[..]
URL:https://www.zamoranatural.com/calendarioactividades/en-kayak-por-los-arribes/
END:VEVENT
END:VCALENDAR