BEGIN:VCALENDAR
VERSION:2.0
PRODID:-//eventon.com NONSGML v1.0//EN
BEGIN:VEVENT
UID:69e7ad1b3cc56
DTSTAMP:20260421T170011
DTSTART:20260622T083000Z
DTEND:20260630T123000Z
TZID:Europe/Madrid
LOCATION:Fermoselle 49220 Fermoselle\,  Zamora\,  España
SUMMARY:Los Arribes en kayak
DESCRIPTION: Los Arribes en kayak SALIDAS TODOS LOS DIAS&nbsp; El río Duero es sin duda uno de los más importantes\,  un laberinto de valles y barrancos\,  los cañones más profundos de la Península Ibérica. El río Duero nace en Fuentes del Duero\,  en los Picos de Urbión\,  Soria y desemboca en[..]
URL:https://www.zamoranatural.com/calendarioactividades/los-arribes-en-kayak/
END:VEVENT
END:VCALENDAR