BEGIN:VCALENDAR
VERSION:2.0
PRODID:-//eventon.com NONSGML v1.0//EN
BEGIN:VEVENT
UID:69e8fe0467711
DTSTAMP:20260422T165740
DTSTART:20261101T102200Z
DTEND:20261108T102200Z
TZID:Europe/Madrid
LOCATION:Parque Natural Arribes del Duero Zamora
SUMMARY:Kayak en Arribes del Duero
DESCRIPTION: Kayak en Arribes del Duero Arribes del Duero\,  destino Natural en Zamora. Parque Natural incluido dentro de la Reserva de la Biosfera Transfronteriza Meseta Ibérica. Un laberinto de valles y barrancos\,  los cañones más profundos de la Península Ibérica. Con sus 897 kilómetros de largo\,  el río Duero es sin[..]
URL:https://www.zamoranatural.com/calendarioactividades/kayak-en-arribes-del-duero/
END:VEVENT
END:VCALENDAR